BEGIN:VCALENDAR
VERSION:2.0
PRODID:-//Västmanlands nämndemannaförening - ECPv6.15.19//NONSGML v1.0//EN
CALSCALE:GREGORIAN
METHOD:PUBLISH
X-ORIGINAL-URL:https://vastmanland.nmrf.se
X-WR-CALDESC:Händelser för Västmanlands nämndemannaförening
REFRESH-INTERVAL;VALUE=DURATION:PT1H
X-Robots-Tag:noindex
X-PUBLISHED-TTL:PT1H
BEGIN:VTIMEZONE
TZID:Europe/Stockholm
BEGIN:DAYLIGHT
TZOFFSETFROM:+0100
TZOFFSETTO:+0200
TZNAME:CEST
DTSTART:20220327T010000
END:DAYLIGHT
BEGIN:STANDARD
TZOFFSETFROM:+0200
TZOFFSETTO:+0100
TZNAME:CET
DTSTART:20221030T010000
END:STANDARD
BEGIN:DAYLIGHT
TZOFFSETFROM:+0100
TZOFFSETTO:+0200
TZNAME:CEST
DTSTART:20230326T010000
END:DAYLIGHT
BEGIN:STANDARD
TZOFFSETFROM:+0200
TZOFFSETTO:+0100
TZNAME:CET
DTSTART:20231029T010000
END:STANDARD
BEGIN:DAYLIGHT
TZOFFSETFROM:+0100
TZOFFSETTO:+0200
TZNAME:CEST
DTSTART:20240331T010000
END:DAYLIGHT
BEGIN:STANDARD
TZOFFSETFROM:+0200
TZOFFSETTO:+0100
TZNAME:CET
DTSTART:20241027T010000
END:STANDARD
END:VTIMEZONE
BEGIN:VEVENT
DTSTART;TZID=Europe/Stockholm:20230322T180000
DTEND;TZID=Europe/Stockholm:20230322T210000
DTSTAMP:20260422T171202
CREATED:20230307T125331Z
LAST-MODIFIED:20230307T125920Z
UID:1206-1679508000-1679518800@vastmanland.nmrf.se
SUMMARY:Årsmöte 2023
DESCRIPTION:Nämndemannaföreningen Västmanland\nÅrsmöte\n2023-03-22 kl 18:00 \nCafe Mosaic \nSmedjegatan 2\, Västerås \nOBS Viktigt anmäl ditt deltagande!\n\n\nAnmäl till: \nbirgitta­_carlstedt@hotmail.com \nHåkan Welin från Förbundet besöker oss! \n \n\n\n\n  \n 
URL:https://vastmanland.nmrf.se/event/arsmote-2023/
LOCATION:Café Mosaic\, Smedjegatan 2\, Västerås
ATTACH;FMTTYPE=image/png:https://vastmanland.nmrf.se/wp-content/uploads/sites/29/2023/03/nrf_logotype_200x200px.png
END:VEVENT
END:VCALENDAR